BEGIN:VCALENDAR
VERSION:2.0
PRODID:-//Michigan Cardiac Rehab Network - ECPv6.15.20//NONSGML v1.0//EN
CALSCALE:GREGORIAN
METHOD:PUBLISH
X-ORIGINAL-URL:https://michigancr.org/zh
X-WR-CALDESC:Michigan Cardiac Rehab Network的活动
REFRESH-INTERVAL;VALUE=DURATION:PT1H
X-Robots-Tag:noindex
X-PUBLISHED-TTL:PT1H
BEGIN:VTIMEZONE
TZID:UTC
BEGIN:STANDARD
TZOFFSETFROM:+0000
TZOFFSETTO:+0000
TZNAME:UTC
DTSTART:20230101T000000
END:STANDARD
END:VTIMEZONE
BEGIN:VEVENT
DTSTART;TZID=UTC:20240822T120000
DTEND;TZID=UTC:20240822T130000
DTSTAMP:20260424T150342
CREATED:20231115T175219Z
LAST-MODIFIED:20240617T165840Z
UID:589-1724328000-1724331600@michigancr.org
SUMMARY:MVC Cardiac Rehab Workgroup - August
DESCRIPTION:Join the MVC Coordinating Center for its cardiac rehabilitation workgroup series\, which features guest speakers and presentations about quality improvement efforts in cardiac rehab. \n\n\n\nRegister Now
URL:https://michigancr.org/zh/events/cardiac-rehab-workgroup-p4p-august-2024/
END:VEVENT
END:VCALENDAR