BEGIN:VCALENDAR
VERSION:2.0
PRODID:-//Michigan Cardiac Rehab Network - ECPv6.15.20//NONSGML v1.0//EN
CALSCALE:GREGORIAN
METHOD:PUBLISH
X-WR-CALNAME:Michigan Cardiac Rehab Network
X-ORIGINAL-URL:https://michigancr.org
X-WR-CALDESC:Events for Michigan Cardiac Rehab Network
REFRESH-INTERVAL;VALUE=DURATION:PT1H
X-Robots-Tag:noindex
X-PUBLISHED-TTL:PT1H
BEGIN:VTIMEZONE
TZID:UTC
BEGIN:STANDARD
TZOFFSETFROM:+0000
TZOFFSETTO:+0000
TZNAME:UTC
DTSTART:20240101T000000
END:STANDARD
END:VTIMEZONE
BEGIN:VEVENT
DTSTART;TZID=UTC:20250418T120000
DTEND;TZID=UTC:20250418T130000
DTSTAMP:20260421T235535
CREATED:20250311T155626Z
LAST-MODIFIED:20250311T155631Z
UID:1436-1744977600-1744981200@michigancr.org
SUMMARY:MiCR Spring Virtual Meeting
DESCRIPTION:Join the MiCR team for its spring virtual meeting to learn about Dr. Alexis Beatty research on virtual cardiac rehab delivery\, as well as a spotlight presentation by Brett Reynolds\, who received a MiCR mini grant for quality improvement. \n\n\n\nSpeakers:  \n\n\n\nAlexis Beatty\, MD\, MAS\, Associate Professor\, Epidemiology & Biostatistics\, School School of Medicine\, University of California San Francisco \n\n\n\nBrett Reynolds\, MPH\, ACSM CEP\, Supervisor of Cardiology\, Corewell Health East \n\n\n\nRegistration link coming soon!
URL:https://michigancr.org/events/micr-spring-virtual-meeting/
END:VEVENT
END:VCALENDAR