BEGIN:VCALENDAR
VERSION:2.0
PRODID:-//Michigan Cardiac Rehab Network - ECPv6.15.20//NONSGML v1.0//EN
CALSCALE:GREGORIAN
METHOD:PUBLISH
X-ORIGINAL-URL:https://michigancr.org
X-WR-CALDESC:Events for Michigan Cardiac Rehab Network
REFRESH-INTERVAL;VALUE=DURATION:PT1H
X-Robots-Tag:noindex
X-PUBLISHED-TTL:PT1H
BEGIN:VTIMEZONE
TZID:UTC
BEGIN:STANDARD
TZOFFSETFROM:+0000
TZOFFSETTO:+0000
TZNAME:UTC
DTSTART:20230101T000000
END:STANDARD
END:VTIMEZONE
BEGIN:VEVENT
DTSTART;TZID=UTC:20241108T100000
DTEND;TZID=UTC:20241108T150000
DTSTAMP:20260423T065119
CREATED:20240815T182446Z
LAST-MODIFIED:20241007T124617Z
UID:1042-1731060000-1731078000@michigancr.org
SUMMARY:MiCR Fall In-Person Meeting
DESCRIPTION: Location: H Hotel\, 111 W Main St\, Midland\, MI 48640 \n View Agenda [PDF] \nRegister now!  https://umich.qualtrics.com/jfe/form/SV_b4s1ry2Owr4lnV4  \n  \n  \n \n  \n  \n  \n  \n 
URL:https://michigancr.org/events/micr-fall-in-person-meeting-2/
ATTACH;FMTTYPE=image/jpeg:https://michigancr.org/wp-content/uploads/2023/10/listening-smiling-micr-3-scaled.jpg
END:VEVENT
END:VCALENDAR