BEGIN:VCALENDAR
VERSION:2.0
PRODID:-//Michigan Cardiac Rehab Network - ECPv6.15.20//NONSGML v1.0//EN
CALSCALE:GREGORIAN
METHOD:PUBLISH
X-ORIGINAL-URL:https://michigancr.org
X-WR-CALDESC:Events for Michigan Cardiac Rehab Network
REFRESH-INTERVAL;VALUE=DURATION:PT1H
X-Robots-Tag:noindex
X-PUBLISHED-TTL:PT1H
BEGIN:VTIMEZONE
TZID:UTC
BEGIN:STANDARD
TZOFFSETFROM:+0000
TZOFFSETTO:+0000
TZNAME:UTC
DTSTART:20240101T000000
END:STANDARD
END:VTIMEZONE
BEGIN:VEVENT
DTSTART;TZID=UTC:20251014T120000
DTEND;TZID=UTC:20251014T130000
DTSTAMP:20260420T070003
CREATED:20250131T143030Z
LAST-MODIFIED:20260210T141451Z
UID:1309-1760443200-1760446800@michigancr.org
SUMMARY:MVC Cardiac Rehab Workgroup
DESCRIPTION:Speaker & Topic: Panelists from Corewell Health\, Holland Hospital\, Michigan Medicine\, MyMichigan Health\, and University of Michigan Health-Sparrow will discuss a variety of efforts to optimize CHF follow-up care and enrollment in cardiac rehab. \n\n\n\nLocation: Virtual – Zoom \n\n\n\n\n\n\n\nRegister Now [LINK]
URL:https://michigancr.org/events/mvc-cardiac-rehab-workgroup-3/
END:VEVENT
END:VCALENDAR