BEGIN:VCALENDAR
VERSION:2.0
PRODID:-//Michigan Cardiac Rehab Network - ECPv6.15.20//NONSGML v1.0//EN
CALSCALE:GREGORIAN
METHOD:PUBLISH
X-WR-CALNAME:Michigan Cardiac Rehab Network
X-ORIGINAL-URL:https://michigancr.org/es
X-WR-CALDESC:Eventos para Michigan Cardiac Rehab Network
REFRESH-INTERVAL;VALUE=DURATION:PT1H
X-Robots-Tag:noindex
X-PUBLISHED-TTL:PT1H
BEGIN:VTIMEZONE
TZID:UTC
BEGIN:STANDARD
TZOFFSETFROM:+0000
TZOFFSETTO:+0000
TZNAME:UTC
DTSTART:20230101T000000
END:STANDARD
END:VTIMEZONE
BEGIN:VEVENT
DTSTART;TZID=UTC:20240530T120000
DTEND;TZID=UTC:20240530T130000
DTSTAMP:20260425T140648
CREATED:20231115T175125Z
LAST-MODIFIED:20231115T175233Z
UID:587-1717070400-1717074000@michigancr.org
SUMMARY:Cardiac Rehab Workgroup (P4P) - May 2024
DESCRIPTION:
URL:https://michigancr.org/es/events/cardiac-rehab-workgroup-p4p/
LOCATION:Zoom (Virtual)
END:VEVENT
END:VCALENDAR