BEGIN:VCALENDAR
VERSION:2.0
PRODID:-//Michigan Cardiac Rehab Network - ECPv6.15.20//NONSGML v1.0//EN
CALSCALE:GREGORIAN
METHOD:PUBLISH
X-WR-CALNAME:Michigan Cardiac Rehab Network
X-ORIGINAL-URL:https://michigancr.org/ar
X-WR-CALDESC:Events for Michigan Cardiac Rehab Network
REFRESH-INTERVAL;VALUE=DURATION:PT1H
X-Robots-Tag:noindex
X-PUBLISHED-TTL:PT1H
BEGIN:VTIMEZONE
TZID:UTC
BEGIN:STANDARD
TZOFFSETFROM:+0000
TZOFFSETTO:+0000
TZNAME:UTC
DTSTART:20240101T000000
END:STANDARD
END:VTIMEZONE
BEGIN:VEVENT
DTSTART;TZID=UTC:20250610T120000
DTEND;TZID=UTC:20250610T130000
DTSTAMP:20260420T154922
CREATED:20250131T142848Z
LAST-MODIFIED:20250131T142849Z
UID:1307-1749556800-1749560400@michigancr.org
SUMMARY:MVC Cardiac Rehab Workgroup
DESCRIPTION:Speaker & Topic: TBD \n\n\n\nLocation: Virtual – Zoom \n\n\n\nRegister Now [LINK]
URL:https://michigancr.org/ar/events/mvc-cardiac-rehab-workgroup-2/
END:VEVENT
END:VCALENDAR